BEGIN:VCALENDAR
VERSION:2.0
PRODID:-//TTC Eschbach e.V. - ECPv6.15.20//NONSGML v1.0//EN
CALSCALE:GREGORIAN
METHOD:PUBLISH
X-ORIGINAL-URL:https://ttc-eschbach.de
X-WR-CALDESC:Veranstaltungen für TTC Eschbach e.V.
REFRESH-INTERVAL;VALUE=DURATION:PT1H
X-Robots-Tag:noindex
X-PUBLISHED-TTL:PT1H
BEGIN:VTIMEZONE
TZID:Europe/Berlin
BEGIN:DAYLIGHT
TZOFFSETFROM:+0100
TZOFFSETTO:+0200
TZNAME:CEST
DTSTART:20250330T010000
END:DAYLIGHT
BEGIN:STANDARD
TZOFFSETFROM:+0200
TZOFFSETTO:+0100
TZNAME:CET
DTSTART:20251026T010000
END:STANDARD
BEGIN:DAYLIGHT
TZOFFSETFROM:+0100
TZOFFSETTO:+0200
TZNAME:CEST
DTSTART:20260329T010000
END:DAYLIGHT
BEGIN:STANDARD
TZOFFSETFROM:+0200
TZOFFSETTO:+0100
TZNAME:CET
DTSTART:20261025T010000
END:STANDARD
BEGIN:DAYLIGHT
TZOFFSETFROM:+0100
TZOFFSETTO:+0200
TZNAME:CEST
DTSTART:20270328T010000
END:DAYLIGHT
BEGIN:STANDARD
TZOFFSETFROM:+0200
TZOFFSETTO:+0100
TZNAME:CET
DTSTART:20271031T010000
END:STANDARD
BEGIN:DAYLIGHT
TZOFFSETFROM:+0100
TZOFFSETTO:+0200
TZNAME:CEST
DTSTART:20280326T010000
END:DAYLIGHT
BEGIN:STANDARD
TZOFFSETFROM:+0200
TZOFFSETTO:+0100
TZNAME:CET
DTSTART:20281029T010000
END:STANDARD
END:VTIMEZONE
BEGIN:VEVENT
DTSTART;VALUE=DATE:20260811
DTEND;VALUE=DATE:20260812
DTSTAMP:20260424T155749
CREATED:20251127T122535Z
LAST-MODIFIED:20251127T122535Z
UID:4047-1786406400-1786492799@ttc-eschbach.de
SUMMARY:QTTR Stichtag
DESCRIPTION:
URL:https://ttc-eschbach.de/event/qttr-stichtag-12/
LOCATION:Baden-Württemberg
CATEGORIES:Vereinstermine
END:VEVENT
BEGIN:VEVENT
DTSTART;VALUE=DATE:20261026
DTEND;VALUE=DATE:20261102
DTSTAMP:20260424T155749
CREATED:20251127T123502Z
LAST-MODIFIED:20251127T123502Z
UID:4061-1792972800-1793577599@ttc-eschbach.de
SUMMARY:Herbstferien
DESCRIPTION:
URL:https://ttc-eschbach.de/event/herbstferien-9/
LOCATION:Baden-Württemberg
CATEGORIES:Ferien / Feiertage
END:VEVENT
BEGIN:VEVENT
DTSTART;VALUE=DATE:20261211
DTEND;VALUE=DATE:20261212
DTSTAMP:20260424T155749
CREATED:20251127T123725Z
LAST-MODIFIED:20251219T113505Z
UID:4065-1796947200-1797033599@ttc-eschbach.de
SUMMARY:QTTR Stichtag
DESCRIPTION:
URL:https://ttc-eschbach.de/event/qttr-stichtag-13/
LOCATION:Baden-Württemberg
CATEGORIES:Vereinstermine
END:VEVENT
BEGIN:VEVENT
DTSTART;VALUE=DATE:20261211
DTEND;VALUE=DATE:20261214
DTSTAMP:20260424T155749
CREATED:20260127T160223Z
LAST-MODIFIED:20260127T160223Z
UID:4180-1796947200-1797206399@ttc-eschbach.de
SUMMARY:kein Training – Halle belegt
DESCRIPTION:Event im Advent vom Musikverein
URL:https://ttc-eschbach.de/event/kein-training-halle-belegt-21/
LOCATION:Alemannenhalle Eschbach\, Mattenstraße 1\, Eschbach\, Baden-Württemberg\, 79427\, Deutschland
CATEGORIES:Sperrzeiten
ORGANIZER;CN="Musikverein Eschbach":MAILTO:info@mveschbach.de
END:VEVENT
BEGIN:VEVENT
DTSTART;VALUE=DATE:20261223
DTEND;VALUE=DATE:20270111
DTSTAMP:20260424T155749
CREATED:20251127T123556Z
LAST-MODIFIED:20251127T123556Z
UID:4063-1797984000-1799625599@ttc-eschbach.de
SUMMARY:Weihnachtsferien
DESCRIPTION:
URL:https://ttc-eschbach.de/event/weihnachtsferien-10/
LOCATION:Baden-Württemberg
CATEGORIES:Ferien / Feiertage
END:VEVENT
END:VCALENDAR