BEGIN:VCALENDAR
VERSION:2.0
PRODID:-//TTC Eschbach e.V. - ECPv6.15.20//NONSGML v1.0//EN
CALSCALE:GREGORIAN
METHOD:PUBLISH
X-WR-CALNAME:TTC Eschbach e.V.
X-ORIGINAL-URL:https://ttc-eschbach.de
X-WR-CALDESC:Veranstaltungen für TTC Eschbach e.V.
REFRESH-INTERVAL;VALUE=DURATION:PT1H
X-Robots-Tag:noindex
X-PUBLISHED-TTL:PT1H
BEGIN:VTIMEZONE
TZID:Europe/Berlin
BEGIN:DAYLIGHT
TZOFFSETFROM:+0100
TZOFFSETTO:+0200
TZNAME:CEST
DTSTART:20240331T010000
END:DAYLIGHT
BEGIN:STANDARD
TZOFFSETFROM:+0200
TZOFFSETTO:+0100
TZNAME:CET
DTSTART:20241027T010000
END:STANDARD
BEGIN:DAYLIGHT
TZOFFSETFROM:+0100
TZOFFSETTO:+0200
TZNAME:CEST
DTSTART:20250330T010000
END:DAYLIGHT
BEGIN:STANDARD
TZOFFSETFROM:+0200
TZOFFSETTO:+0100
TZNAME:CET
DTSTART:20251026T010000
END:STANDARD
BEGIN:DAYLIGHT
TZOFFSETFROM:+0100
TZOFFSETTO:+0200
TZNAME:CEST
DTSTART:20260329T010000
END:DAYLIGHT
BEGIN:STANDARD
TZOFFSETFROM:+0200
TZOFFSETTO:+0100
TZNAME:CET
DTSTART:20261025T010000
END:STANDARD
END:VTIMEZONE
BEGIN:VEVENT
DTSTART;VALUE=DATE:20250213
DTEND;VALUE=DATE:20250224
DTSTAMP:20260424T202400
CREATED:20240913T123913Z
LAST-MODIFIED:20250131T122703Z
UID:3703-1739404800-1740355199@ttc-eschbach.de
SUMMARY:Musikfasnacht - kein Training
DESCRIPTION:
URL:https://ttc-eschbach.de/event/musikfasnacht-kein-training/
LOCATION:Alemannenhalle Eschbach\, Mattenstraße 1\, Eschbach\, Baden-Württemberg\, 79427\, Deutschland
CATEGORIES:Sperrzeiten
END:VEVENT
END:VCALENDAR